BEGIN:VCALENDAR
VERSION:2.0
METHOD:PUBLISH
BEGIN:VEVENT
DTSTART:20170421T140000Z
DTEND:20170422T203000Z
LOCATION:Elmwood Park, NJ 07407
TRANSP: OPAQUE
SEQUENCE:0
UID:
DTSTAMP:20260421T124126Z
SUMMARY:Treasures of Yesterday in Elmwood Park Mid Century furniture & so much more!!
DESCRIPTION:Treasures of Yesterday in Elmwood Park Mid Century furniture & so much more!! Treasures of Yesterday Estate Sales 
UID:1776796886
STREET-ADDRESS:See website
POSTAL-CODE:07407
LOCALITY:Elmwood Park
REGION:ABBREV=NJ
COUNTRY:ABBREV=US;ABBREV=USA:United States
URL;TYPE=Event Listing:https://estatesales.org/estate-sales/nj/elmwood-park/07407/treasures-of-yesterday-in-elmwood-1145781
PRIORITY:1
CLASS:PUBLIC
SEQUENCE:0
STATUS:CONFIRMED
TRANSP:OPAQUE
END:VEVENT
END:VCALENDAR
