BEGIN:VCALENDAR
VERSION:2.0
METHOD:PUBLISH
BEGIN:VEVENT
DTSTART:20170421T140000Z
DTEND:20170422T200000Z
LOCATION:Venice, FL 34293
TRANSP: OPAQUE
SEQUENCE:0
UID:
DTSTAMP:20260425T162222Z
SUMMARY:WELCOME TO THE CHOTCHKIES GALORE & MORE SALE IN VENICE
DESCRIPTION:WELCOME TO THE CHOTCHKIES GALORE & MORE SALE IN VENICE A PRESTIGE ESTATE SERVICES National Company 
UID:1777155742
STREET-ADDRESS:See website
POSTAL-CODE:34293
LOCALITY:Venice
REGION:ABBREV=FL
COUNTRY:ABBREV=US;ABBREV=USA:United States
URL;TYPE=Event Listing:https://estatesales.org/estate-sales/fl/venice/34293/welcome-to-the-chotchkies-galore-1149309
PRIORITY:1
CLASS:PUBLIC
SEQUENCE:0
STATUS:CONFIRMED
TRANSP:OPAQUE
END:VEVENT
END:VCALENDAR
