BEGIN:VCALENDAR
VERSION:2.0
METHOD:PUBLISH
BEGIN:VEVENT
DTSTART:20170421T150000Z
DTEND:20170423T190000Z
LOCATION:Sammamish, WA 98074
TRANSP: OPAQUE
SEQUENCE:0
UID:
DTSTAMP:20260424T133527Z
SUMMARY:A&w Helping hands "Sammamish " Estate sale
DESCRIPTION:A&w Helping hands "Sammamish " Estate sale A&W Helping Hands Estate Sale services and full cleanouts 
UID:1777059327
STREET-ADDRESS:See website
POSTAL-CODE:98074
LOCALITY:Sammamish
REGION:ABBREV=WA
COUNTRY:ABBREV=US;ABBREV=USA:United States
URL;TYPE=Event Listing:https://estatesales.org/estate-sales/wa/sammamish/98074/aw-helping-hands-sammamish-estate-1145933
PRIORITY:1
CLASS:PUBLIC
SEQUENCE:0
STATUS:CONFIRMED
TRANSP:OPAQUE
END:VEVENT
END:VCALENDAR
