BEGIN:VCALENDAR
VERSION:2.0
METHOD:PUBLISH
BEGIN:VEVENT
DTSTART:20170421T120000Z
DTEND:20170422T210000Z
LOCATION:Archbald, PA 18403
TRANSP: OPAQUE
SEQUENCE:0
UID:
DTSTAMP:20260421T045812Z
SUMMARY:Estate Sale Archabald Family Home
DESCRIPTION:Estate Sale Archabald Family Home Caring Transitions of Scranton, PA 
UID:1776769092
STREET-ADDRESS:See website
POSTAL-CODE:18403
LOCALITY:Archbald
REGION:ABBREV=PA
COUNTRY:ABBREV=US;ABBREV=USA:United States
URL;TYPE=Event Listing:https://estatesales.org/estate-sales/pa/archbald/18403/estate-sale-archabald-family-home-1157575
PRIORITY:1
CLASS:PUBLIC
SEQUENCE:0
STATUS:CONFIRMED
TRANSP:OPAQUE
END:VEVENT
END:VCALENDAR
