BEGIN:VCALENDAR
VERSION:2.0
METHOD:PUBLISH
BEGIN:VEVENT
DTSTART:20260421T025600Z
DTEND:20260426T200000Z
LOCATION:Ferriday, LA 71334 (Full address will be shown on Sat, Apr 25 12:00am)
TRANSP: OPAQUE
SEQUENCE:0
UID:
DTSTAMP:20260421T034633Z
SUMMARY:Lake St. John Estate Sale
DESCRIPTION:Lake St. John Estate Sale Vintage Vagabond Louisiana 
UID:1776764793
STREET-ADDRESS:See website
POSTAL-CODE:71334
LOCALITY:Ferriday
REGION:ABBREV=LA
COUNTRY:ABBREV=US;ABBREV=USA:United States
URL;TYPE=Event Listing:https://estatesales.org/estate-sales/la/ferriday/71334/lake-st-john-estate-sale-2436226
PRIORITY:1
CLASS:PUBLIC
SEQUENCE:0
STATUS:CONFIRMED
TRANSP:OPAQUE
END:VEVENT
END:VCALENDAR
