BEGIN:VCALENDAR
VERSION:2.0
METHOD:PUBLISH
BEGIN:VEVENT
DTSTART:20240420T170000Z
DTEND:20240421T220000Z
LOCATION:San Pedro, CA 90732
TRANSP: OPAQUE
SEQUENCE:0
UID:
DTSTAMP:20260420T023523Z
SUMMARY:*75% Off Sunday JewelryCamerasPaintingsFurnitureStatues
DESCRIPTION:*75% Off Sunday JewelryCamerasPaintingsFurnitureStatues Diamond Heirlooms Estate Sales & Consulting  LLC 
UID:1776674123
STREET-ADDRESS:See website
POSTAL-CODE:90732
LOCALITY:San Pedro
REGION:ABBREV=CA
COUNTRY:ABBREV=US;ABBREV=USA:United States
URL;TYPE=Event Listing:https://estatesales.org/estate-sales/ca/san-pedro/90732/75-off-sunday-jewelrycameraspaintingsfurniturestatues-2302725
PRIORITY:1
CLASS:PUBLIC
SEQUENCE:0
STATUS:CONFIRMED
TRANSP:OPAQUE
END:VEVENT
END:VCALENDAR
