BEGIN:VCALENDAR
VERSION:2.0
METHOD:PUBLISH
BEGIN:VEVENT
DTSTART:20240420T130000Z
DTEND:20240422T180000Z
LOCATION:Orlando, FL 32812
TRANSP: OPAQUE
SEQUENCE:0
UID:
DTSTAMP:20260423T132646Z
SUMMARY:EMERALD will be in Orlando
DESCRIPTION:EMERALD will be in Orlando Estate Sales by Emerald 
UID:1776972406
STREET-ADDRESS:See website
POSTAL-CODE:32812
LOCALITY:Orlando
REGION:ABBREV=FL
COUNTRY:ABBREV=US;ABBREV=USA:United States
URL;TYPE=Event Listing:https://estatesales.org/estate-sales/fl/orlando/32812/emerald-will-be-in-orlando-2301063
PRIORITY:1
CLASS:PUBLIC
SEQUENCE:0
STATUS:CONFIRMED
TRANSP:OPAQUE
END:VEVENT
END:VCALENDAR
