BEGIN:VCALENDAR
VERSION:2.0
METHOD:PUBLISH
BEGIN:VEVENT
DTSTART:20240420T160000Z
DTEND:20240421T230000Z
LOCATION:Los Angeles, CA 90272
TRANSP: OPAQUE
SEQUENCE:0
UID:
DTSTAMP:20260420T044047Z
SUMMARY:DISCOUNT SUNDAY, Pacific Palisades Estate Sale (DESIGNER CLOTHES) AMAZING ART=EVERYTHING MUST GO
DESCRIPTION:DISCOUNT SUNDAY, Pacific Palisades Estate Sale (DESIGNER CLOTHES) AMAZING ART=EVERYTHING MUST GO Hidden Treasure Estate Sales 
UID:1776681647
STREET-ADDRESS:See website
POSTAL-CODE:90272
LOCALITY:Los Angeles
REGION:ABBREV=CA
COUNTRY:ABBREV=US;ABBREV=USA:United States
URL;TYPE=Event Listing:https://estatesales.org/estate-sales/ca/los-angeles/90272/discount-sunday-pacific-palisades-estate-2305465
PRIORITY:1
CLASS:PUBLIC
SEQUENCE:0
STATUS:CONFIRMED
TRANSP:OPAQUE
END:VEVENT
END:VCALENDAR
