BEGIN:VCALENDAR
VERSION:2.0
METHOD:PUBLISH
BEGIN:VEVENT
DTSTART:20240420T150000Z
DTEND:20240421T200000Z
LOCATION:Bakersfield, CA 93312
TRANSP: OPAQUE
SEQUENCE:0
UID:
DTSTAMP:20260422T120354Z
SUMMARY:Estate Sale 50 % off Sat & Sun
DESCRIPTION:Estate Sale 50 % off Sat & Sun Complete Estate Management 
UID:1776881034
STREET-ADDRESS:See website
POSTAL-CODE:93312
LOCALITY:Bakersfield
REGION:ABBREV=CA
COUNTRY:ABBREV=US;ABBREV=USA:United States
URL;TYPE=Event Listing:https://estatesales.org/estate-sales/ca/bakersfield/93312/estate-sale-50-off-sat-2307125
PRIORITY:1
CLASS:PUBLIC
SEQUENCE:0
STATUS:CONFIRMED
TRANSP:OPAQUE
END:VEVENT
END:VCALENDAR
