BEGIN:VCALENDAR
VERSION:2.0
METHOD:PUBLISH
BEGIN:VEVENT
DTSTART:20180420T160000Z
DTEND:20180422T210000Z
LOCATION:Leander, TX 78641
TRANSP: OPAQUE
SEQUENCE:0
UID:
DTSTAMP:20260424T121953Z
SUMMARY:Living Estate at South San Gabriel River in Leander
DESCRIPTION:Living Estate at South San Gabriel River in Leander Past 2 Present Estate Sale Service 
UID:1777054793
STREET-ADDRESS:See website
POSTAL-CODE:78641
LOCALITY:Leander
REGION:ABBREV=TX
COUNTRY:ABBREV=US;ABBREV=USA:United States
URL;TYPE=Event Listing:https://estatesales.org/estate-sales/tx/leander/78641/living-estate-at-south-san-1495313
PRIORITY:1
CLASS:PUBLIC
SEQUENCE:0
STATUS:CONFIRMED
TRANSP:OPAQUE
END:VEVENT
END:VCALENDAR
