BEGIN:VCALENDAR
VERSION:2.0
METHOD:PUBLISH
BEGIN:VEVENT
DTSTART:20180420T160000Z
DTEND:20180421T220000Z
LOCATION:San Leandro, CA 94577
TRANSP: OPAQUE
SEQUENCE:0
UID:
DTSTAMP:20260421T172717Z
SUMMARY:Estate Sale San Leandro This Friday and Saturday Antiques & Vintage Packed Home
DESCRIPTION:Estate Sale San Leandro This Friday and Saturday Antiques & Vintage Packed Home Golden Bear Estate Liquidation 
UID:1776814037
STREET-ADDRESS:See website
POSTAL-CODE:94577
LOCALITY:San Leandro
REGION:ABBREV=CA
COUNTRY:ABBREV=US;ABBREV=USA:United States
URL;TYPE=Event Listing:https://estatesales.org/estate-sales/ca/san-leandro/94577/estate-sale-san-leandro-this-1504417
PRIORITY:1
CLASS:PUBLIC
SEQUENCE:0
STATUS:CONFIRMED
TRANSP:OPAQUE
END:VEVENT
END:VCALENDAR
