BEGIN:VCALENDAR
VERSION:2.0
METHOD:PUBLISH
BEGIN:VEVENT
DTSTART:20120420T150000Z
DTEND:20120422T230000Z
LOCATION:Los Angeles, CA 90069
TRANSP: OPAQUE
SEQUENCE:0
UID:
DTSTAMP:20260420T222149Z
SUMMARY:IMPORTANT Antique &amp; Vintage ESTATE SALE w/ Art Glass &amp; Ceramics!
DESCRIPTION:IMPORTANT Antique &amp; Vintage ESTATE SALE w/ Art Glass &amp; Ceramics! Retro Robin Estate Sales, LLC 
UID:1776745309
STREET-ADDRESS:See website
POSTAL-CODE:90069
LOCALITY:Los Angeles
REGION:ABBREV=CA
COUNTRY:ABBREV=US;ABBREV=USA:United States
URL;TYPE=Event Listing:https://estatesales.org/estate-sales/ca/los-angeles/90069/important-antique-amp-vintage-estate-164728
PRIORITY:1
CLASS:PUBLIC
SEQUENCE:0
STATUS:CONFIRMED
TRANSP:OPAQUE
END:VEVENT
END:VCALENDAR
