BEGIN:VCALENDAR
VERSION:2.0
METHOD:PUBLISH
BEGIN:VEVENT
DTSTART:20240419T153000Z
DTEND:20240421T203000Z
LOCATION:Valrico, FL 33596
TRANSP: OPAQUE
SEQUENCE:0
UID:
DTSTAMP:20260421T145200Z
SUMMARY:Friday Thru Sunday Valrico Estate Sale
DESCRIPTION:Friday Thru Sunday Valrico Estate Sale Done Deal Estate Sales and Appraisals, LLC 
UID:1776804720
STREET-ADDRESS:See website
POSTAL-CODE:33596
LOCALITY:Valrico
REGION:ABBREV=FL
COUNTRY:ABBREV=US;ABBREV=USA:United States
URL;TYPE=Event Listing:https://estatesales.org/estate-sales/fl/valrico/33596/friday-thru-sunday-valrico-estate-2307985
PRIORITY:1
CLASS:PUBLIC
SEQUENCE:0
STATUS:CONFIRMED
TRANSP:OPAQUE
END:VEVENT
END:VCALENDAR
