BEGIN:VCALENDAR
VERSION:2.0
METHOD:PUBLISH
BEGIN:VEVENT
DTSTART:20240419T130000Z
DTEND:20240421T190000Z
LOCATION:Concord, MA 01742
TRANSP: OPAQUE
SEQUENCE:0
UID:
DTSTAMP:20260419T092021Z
SUMMARY:IMPORTANT HISTORIC CONCORD ESTATE SALE
DESCRIPTION:IMPORTANT HISTORIC CONCORD ESTATE SALE Estate Sale Specialists, LLC 
UID:1776612021
STREET-ADDRESS:See website
POSTAL-CODE:01742
LOCALITY:Concord
REGION:ABBREV=MA
COUNTRY:ABBREV=US;ABBREV=USA:United States
URL;TYPE=Event Listing:https://estatesales.org/estate-sales/ma/concord/01742/important-historic-concord-estate-sale-2301895
PRIORITY:1
CLASS:PUBLIC
SEQUENCE:0
STATUS:CONFIRMED
TRANSP:OPAQUE
END:VEVENT
END:VCALENDAR
