BEGIN:VCALENDAR
VERSION:2.0
METHOD:PUBLISH
BEGIN:VEVENT
DTSTART:20240419T130000Z
DTEND:20240421T170000Z
LOCATION:Centerton, AR 72713
TRANSP: OPAQUE
SEQUENCE:0
UID:
DTSTAMP:20260423T131058Z
SUMMARY:Centerton Stunner!
DESCRIPTION:Centerton Stunner! Bella Vista Estate Sales and Service 
UID:1776971458
STREET-ADDRESS:See website
POSTAL-CODE:72713
LOCALITY:Centerton
REGION:ABBREV=AR
COUNTRY:ABBREV=US;ABBREV=USA:United States
URL;TYPE=Event Listing:https://estatesales.org/estate-sales/ar/centerton/72713/centerton-stunner-2307747
PRIORITY:1
CLASS:PUBLIC
SEQUENCE:0
STATUS:CONFIRMED
TRANSP:OPAQUE
END:VEVENT
END:VCALENDAR
