BEGIN:VCALENDAR
VERSION:2.0
METHOD:PUBLISH
BEGIN:VEVENT
DTSTART:20230419T220000Z
DTEND:20230422T220000Z
LOCATION:Derby, KS 67037
TRANSP: OPAQUE
SEQUENCE:0
UID:
DTSTAMP:20260419T082757Z
SUMMARY:Exquisite Derby Estate Sale
DESCRIPTION:Exquisite Derby Estate Sale OZ Estate Sales 
UID:1776608877
STREET-ADDRESS:See website
POSTAL-CODE:67037
LOCALITY:Derby
REGION:ABBREV=KS
COUNTRY:ABBREV=US;ABBREV=USA:United States
URL;TYPE=Event Listing:https://estatesales.org/estate-sales/ks/derby/67037/exquisite-derby-estate-sale-2164205
PRIORITY:1
CLASS:PUBLIC
SEQUENCE:0
STATUS:CONFIRMED
TRANSP:OPAQUE
END:VEVENT
END:VCALENDAR
