BEGIN:VCALENDAR
VERSION:2.0
METHOD:PUBLISH
BEGIN:VEVENT
DTSTART:20180419T120000Z
DTEND:20180420T200000Z
LOCATION:Liberty, MO 64068
TRANSP: OPAQUE
SEQUENCE:0
UID:
DTSTAMP:20260419T082631Z
SUMMARY:2013 Buick LaCrosse Premium 13k miles and 2017 Ford Focus 5k miles +MUCH MORE!!
DESCRIPTION:2013 Buick LaCrosse Premium 13k miles and 2017 Ford Focus 5k miles +MUCH MORE!! Caring Transitions Kansas City 
UID:1776608791
STREET-ADDRESS:See website
POSTAL-CODE:64068
LOCALITY:Liberty
REGION:ABBREV=MO
COUNTRY:ABBREV=US;ABBREV=USA:United States
URL;TYPE=Event Listing:https://estatesales.org/estate-sales/mo/liberty/64068/2013-buick-lacrosse-premium-13k-1503983
PRIORITY:1
CLASS:PUBLIC
SEQUENCE:0
STATUS:CONFIRMED
TRANSP:OPAQUE
END:VEVENT
END:VCALENDAR
