BEGIN:VCALENDAR
VERSION:2.0
METHOD:PUBLISH
BEGIN:VEVENT
DTSTART:20260418T140000Z
DTEND:20260419T210000Z
LOCATION:Huntington, NY 11743
TRANSP: OPAQUE
SEQUENCE:0
UID:
DTSTAMP:20260420T030330Z
SUMMARY:Huntington IN-PERSON Estate Clean Out Sale: Furniture, Taxidermy, Garage, Sailboat, Speakers,
DESCRIPTION:Huntington IN-PERSON Estate Clean Out Sale: Furniture, Taxidermy, Garage, Sailboat, Speakers, Come Find Your Treasure 
UID:1776675810
STREET-ADDRESS:See website
POSTAL-CODE:11743
LOCALITY:Huntington
REGION:ABBREV=NY
COUNTRY:ABBREV=US;ABBREV=USA:United States
URL;TYPE=Event Listing:https://estatesales.org/estate-sales/ny/huntington/11743/huntington-inperson-estate-clean-out-2434969
PRIORITY:1
CLASS:PUBLIC
SEQUENCE:0
STATUS:CONFIRMED
TRANSP:OPAQUE
END:VEVENT
END:VCALENDAR
