BEGIN:VCALENDAR
VERSION:2.0
METHOD:PUBLISH
BEGIN:VEVENT
DTSTART:20260418T150000Z
DTEND:20260420T000000Z
LOCATION:West Covina, CA 91791
TRANSP: OPAQUE
SEQUENCE:0
UID:
DTSTAMP:20260420T030331Z
SUMMARY:50-Year Estate Collection – Vintage Jewelry, Perfume, Oil Paintings & Handbag
DESCRIPTION:50-Year Estate Collection – Vintage Jewelry, Perfume, Oil Paintings & Handbag
UID:1776675811
STREET-ADDRESS:See website
POSTAL-CODE:91791
LOCALITY:West Covina
REGION:ABBREV=CA
COUNTRY:ABBREV=US;ABBREV=USA:United States
URL;TYPE=Event Listing:https://estatesales.org/estate-sales/ca/west-covina/91791/50year-estate-collection-vintage-jewelry-2435872
PRIORITY:1
CLASS:PUBLIC
SEQUENCE:0
STATUS:CONFIRMED
TRANSP:OPAQUE
END:VEVENT
END:VCALENDAR
