BEGIN:VCALENDAR
VERSION:2.0
METHOD:PUBLISH
BEGIN:VEVENT
DTSTART:20250418T170000Z
DTEND:20250418T200000Z
LOCATION:Manteca, CA 95336
TRANSP: OPAQUE
SEQUENCE:0
UID:
DTSTAMP:20260422T004813Z
SUMMARY:FLASH SALE for BRAND NEW Purses/Bags/Wallets AND Birkenstocks (size 10 & 11 only & ARIAT boots (size 11 only), in Manteca
DESCRIPTION:FLASH SALE for BRAND NEW Purses/Bags/Wallets AND Birkenstocks (size 10 & 11 only & ARIAT boots (size 11 only), in Manteca Caring Transitions of Manteca 
UID:1776840493
STREET-ADDRESS:See website
POSTAL-CODE:95336
LOCALITY:Manteca
REGION:ABBREV=CA
COUNTRY:ABBREV=US;ABBREV=USA:United States
URL;TYPE=Event Listing:https://estatesales.org/estate-sales/ca/manteca/95336/flash-sale-for-brand-new-2373442
PRIORITY:1
CLASS:PUBLIC
SEQUENCE:0
STATUS:CONFIRMED
TRANSP:OPAQUE
END:VEVENT
END:VCALENDAR
