BEGIN:VCALENDAR
VERSION:2.0
METHOD:PUBLISH
BEGIN:VEVENT
DTSTART:20250418T130000Z
DTEND:20250419T180000Z
LOCATION:Saint Augustine, FL 32092
TRANSP: OPAQUE
SEQUENCE:0
UID:
DTSTAMP:20260425T103619Z
SUMMARY:Grasons St Johns & Flagler Counties 2nd Chance Blowout 50% OFF Sale (St Augustine)
DESCRIPTION:Grasons St Johns & Flagler Counties 2nd Chance Blowout 50% OFF Sale (St Augustine) Grasons Of St Johns & Flagler Counties 
UID:1777134979
STREET-ADDRESS:See website
POSTAL-CODE:32092
LOCALITY:Saint Augustine
REGION:ABBREV=FL
COUNTRY:ABBREV=US;ABBREV=USA:United States
URL;TYPE=Event Listing:https://estatesales.org/estate-sales/fl/saint-augustine/32092/grasons-st-johns-flagler-counties-2372644
PRIORITY:1
CLASS:PUBLIC
SEQUENCE:0
STATUS:CONFIRMED
TRANSP:OPAQUE
END:VEVENT
END:VCALENDAR
