BEGIN:VCALENDAR
VERSION:2.0
METHOD:PUBLISH
BEGIN:VEVENT
DTSTART:20250418T160000Z
DTEND:20250419T210000Z
LOCATION:Bakersfield, CA 93308
TRANSP: OPAQUE
SEQUENCE:0
UID:
DTSTAMP:20260421T115722Z
SUMMARY:Going! Going!! Gone!!! Sale hosted by Senior Move Manager & More!
DESCRIPTION:Going! Going!! Gone!!! Sale hosted by Senior Move Manager & More! Senior Move Manager & More! 
UID:1776794242
STREET-ADDRESS:See website
POSTAL-CODE:93308
LOCALITY:Bakersfield
REGION:ABBREV=CA
COUNTRY:ABBREV=US;ABBREV=USA:United States
URL;TYPE=Event Listing:https://estatesales.org/estate-sales/ca/bakersfield/93308/going-going-gone-sale-hosted-2372626
PRIORITY:1
CLASS:PUBLIC
SEQUENCE:0
STATUS:CONFIRMED
TRANSP:OPAQUE
END:VEVENT
END:VCALENDAR
