BEGIN:VCALENDAR
VERSION:2.0
METHOD:PUBLISH
BEGIN:VEVENT
DTSTART:20240418T150000Z
DTEND:20240420T210000Z
LOCATION:Milwaukee, WI 53207
TRANSP: OPAQUE
SEQUENCE:0
UID:
DTSTAMP:20260425T162711Z
SUMMARY:Bay View: Half Off Most Items! Super Spring Sale!
DESCRIPTION:Bay View: Half Off Most Items! Super Spring Sale! Landmark Estate Sales 
UID:1777156031
STREET-ADDRESS:See website
POSTAL-CODE:53207
LOCALITY:Milwaukee
REGION:ABBREV=WI
COUNTRY:ABBREV=US;ABBREV=USA:United States
URL;TYPE=Event Listing:https://estatesales.org/estate-sales/wi/milwaukee/53207/bay-view-super-spring-sale-2304911
PRIORITY:1
CLASS:PUBLIC
SEQUENCE:0
STATUS:CONFIRMED
TRANSP:OPAQUE
END:VEVENT
END:VCALENDAR
