BEGIN:VCALENDAR
VERSION:2.0
METHOD:PUBLISH
BEGIN:VEVENT
DTSTART:20150418T130000Z
DTEND:20150419T200000Z
LOCATION:Spring Hill, FL 34609
TRANSP: OPAQUE
SEQUENCE:0
UID:
DTSTAMP:20260423T130956Z
SUMMARY:YARD SALE - HUGE!!
DESCRIPTION:YARD SALE - HUGE!! LynMar Estate Sales, Inc 
UID:1776971396
STREET-ADDRESS:See website
POSTAL-CODE:34609
LOCALITY:Spring Hill
REGION:ABBREV=FL
COUNTRY:ABBREV=US;ABBREV=USA:United States
URL;TYPE=Event Listing:https://estatesales.org/estate-sales/fl/spring-hill/34609/yard-sale-huge-531060
PRIORITY:1
CLASS:PUBLIC
SEQUENCE:0
STATUS:CONFIRMED
TRANSP:OPAQUE
END:VEVENT
END:VCALENDAR
