BEGIN:VCALENDAR
VERSION:2.0
METHOD:PUBLISH
BEGIN:VEVENT
DTSTART:20150418T120000Z
DTEND:20150418T190000Z
LOCATION:Pittsburgh, PA 15237
TRANSP: OPAQUE
SEQUENCE:0
UID:
DTSTAMP:20260420T161905Z
SUMMARY:Everything must go!
DESCRIPTION:Everything must go! Senior Moving Care, LLC 
UID:1776723545
STREET-ADDRESS:See website
POSTAL-CODE:15237
LOCALITY:Pittsburgh
REGION:ABBREV=PA
COUNTRY:ABBREV=US;ABBREV=USA:United States
URL;TYPE=Event Listing:https://estatesales.org/estate-sales/pa/pittsburgh/15237/everything-must-go-529610
PRIORITY:1
CLASS:PUBLIC
SEQUENCE:0
STATUS:CONFIRMED
TRANSP:OPAQUE
END:VEVENT
END:VCALENDAR
