BEGIN:VCALENDAR
VERSION:2.0
METHOD:PUBLISH
BEGIN:VEVENT
DTSTART:20260417T160000Z
DTEND:20260419T230000Z
LOCATION:Gilroy, CA 95020
TRANSP: OPAQUE
SEQUENCE:0
UID:
DTSTAMP:20260419T191143Z
SUMMARY:EVERYTHING FREE 2-4PM
DESCRIPTION:EVERYTHING FREE 2-4PM Attic to Basement Estate Liquidators 
UID:1776647503
STREET-ADDRESS:See website
POSTAL-CODE:95020
LOCALITY:Gilroy
REGION:ABBREV=CA
COUNTRY:ABBREV=US;ABBREV=USA:United States
URL;TYPE=Event Listing:https://estatesales.org/estate-sales/ca/gilroy/95020/everything-free-24pm-2434821
PRIORITY:1
CLASS:PUBLIC
SEQUENCE:0
STATUS:CONFIRMED
TRANSP:OPAQUE
END:VEVENT
END:VCALENDAR
