BEGIN:VCALENDAR
VERSION:2.0
METHOD:PUBLISH
BEGIN:VEVENT
DTSTART:20260417T160000Z
DTEND:20260419T210000Z
LOCATION:Carmichael, CA 95608
TRANSP: OPAQUE
SEQUENCE:0
UID:
DTSTAMP:20260420T031519Z
SUMMARY:50% off & $10 FILL A BAG!!Lots to see in Carmichael
DESCRIPTION:50% off & $10 FILL A BAG!!Lots to see in Carmichael Unfound Treasures 
UID:1776676519
STREET-ADDRESS:See website
POSTAL-CODE:95608
LOCALITY:Carmichael
REGION:ABBREV=CA
COUNTRY:ABBREV=US;ABBREV=USA:United States
URL;TYPE=Event Listing:https://estatesales.org/estate-sales/ca/carmichael/95608/2030-off-lots-to-see-2434940
PRIORITY:1
CLASS:PUBLIC
SEQUENCE:0
STATUS:CONFIRMED
TRANSP:OPAQUE
END:VEVENT
END:VCALENDAR
