BEGIN:VCALENDAR
VERSION:2.0
METHOD:PUBLISH
BEGIN:VEVENT
DTSTART:20260417T150000Z
DTEND:20260418T210000Z
LOCATION:Tucson, AZ 85739
TRANSP: OPAQUE
SEQUENCE:0
UID:
DTSTAMP:20260420T043739Z
SUMMARY:Beautiful Saddlebrooke 2 Estate Sale This Week!
DESCRIPTION:Beautiful Saddlebrooke 2 Estate Sale This Week! The Treasure Trunk, LLC 
UID:1776681459
STREET-ADDRESS:See website
POSTAL-CODE:85739
LOCALITY:Tucson
REGION:ABBREV=AZ
COUNTRY:ABBREV=US;ABBREV=USA:United States
URL;TYPE=Event Listing:https://estatesales.org/estate-sales/az/tucson/85739/beautiful-saddlebrooke-2-estate-sale-2434988
PRIORITY:1
CLASS:PUBLIC
SEQUENCE:0
STATUS:CONFIRMED
TRANSP:OPAQUE
END:VEVENT
END:VCALENDAR
