BEGIN:VCALENDAR
VERSION:2.0
METHOD:PUBLISH
BEGIN:VEVENT
DTSTART:20140417T140000Z
DTEND:20140421T220000Z
LOCATION:By appointment only.
TRANSP: OPAQUE
SEQUENCE:0
UID:
DTSTAMP:20260423T130957Z
SUMMARY:Doll Collection
DESCRIPTION:Doll Collection Caring Transitions of Central WI 
UID:1776971397
STREET-ADDRESS:See website
POSTAL-CODE:54448
LOCALITY:Wausau
REGION:ABBREV=WI
COUNTRY:ABBREV=US;ABBREV=USA:United States
URL;TYPE=Event Listing:https://estatesales.org/estate-sales/wi/wausau/54448/doll-collection-372467
PRIORITY:1
CLASS:PUBLIC
SEQUENCE:0
STATUS:CONFIRMED
TRANSP:OPAQUE
END:VEVENT
END:VCALENDAR
