BEGIN:VCALENDAR
VERSION:2.0
METHOD:PUBLISH
BEGIN:VEVENT
DTSTART:20260416T120000Z
DTEND:20260418T180000Z
LOCATION:Titusville, FL 32796
TRANSP: OPAQUE
SEQUENCE:0
UID:
DTSTAMP:20260424T073146Z
SUMMARY:Great Sale in Titusville!! Quality Items - Artwork - Vintage Clothing & Jewelry and Much More!!
DESCRIPTION:Great Sale in Titusville!! Quality Items - Artwork - Vintage Clothing & Jewelry and Much More!! Florida's Finest Estate Sale Company 
UID:1777037506
STREET-ADDRESS:See website
POSTAL-CODE:32796
LOCALITY:Titusville
REGION:ABBREV=FL
COUNTRY:ABBREV=US;ABBREV=USA:United States
URL;TYPE=Event Listing:https://estatesales.org/estate-sales/fl/titusville/32796/great-sale-in-titusville-quality-2433070
PRIORITY:1
CLASS:PUBLIC
SEQUENCE:0
STATUS:CONFIRMED
TRANSP:OPAQUE
END:VEVENT
END:VCALENDAR
