BEGIN:VCALENDAR
VERSION:2.0
METHOD:PUBLISH
BEGIN:VEVENT
DTSTART:20220416T160000Z
DTEND:20220416T230000Z
LOCATION:Bernalillo, NM 87004
TRANSP: OPAQUE
SEQUENCE:0
UID:
DTSTAMP:20260421T165847Z
SUMMARY:Saturday, April 16th from 10am-5pm - Estate Liquidation Sale!!
DESCRIPTION:Saturday, April 16th from 10am-5pm - Estate Liquidation Sale!! Everything But The Kitchen Sink, LLC 
UID:1776812327
STREET-ADDRESS:See website
POSTAL-CODE:87004
LOCALITY:Bernalillo
REGION:ABBREV=NM
COUNTRY:ABBREV=US;ABBREV=USA:United States
URL;TYPE=Event Listing:https://estatesales.org/estate-sales/nm/bernalillo/87004/saturday-april-16th-from-10am5pm-2030367
PRIORITY:1
CLASS:PUBLIC
SEQUENCE:0
STATUS:CONFIRMED
TRANSP:OPAQUE
END:VEVENT
END:VCALENDAR
