BEGIN:VCALENDAR
VERSION:2.0
METHOD:PUBLISH
BEGIN:VEVENT
DTSTART:20240415T163000Z
DTEND:20240415T210000Z
LOCATION:San Pedro, CA 90731
TRANSP: OPAQUE
SEQUENCE:0
UID:
DTSTAMP:20260420T023523Z
SUMMARY:*75% Off Monday - Tax Day Specials - - - - 9:30a - 2p
DESCRIPTION:*75% Off Monday - Tax Day Specials - - - - 9:30a - 2p Diamond Heirlooms Estate Sales & Consulting  LLC 
UID:1776674123
STREET-ADDRESS:See website
POSTAL-CODE:90731
LOCALITY:San Pedro
REGION:ABBREV=CA
COUNTRY:ABBREV=US;ABBREV=USA:United States
URL;TYPE=Event Listing:https://estatesales.org/estate-sales/ca/san-pedro/90731/75-off-monday-tax-day-2305349
PRIORITY:1
CLASS:PUBLIC
SEQUENCE:0
STATUS:CONFIRMED
TRANSP:OPAQUE
END:VEVENT
END:VCALENDAR
