BEGIN:VCALENDAR
VERSION:2.0
METHOD:PUBLISH
BEGIN:VEVENT
DTSTART:20230415T153000Z
DTEND:20230415T210000Z
LOCATION:Long Beach, CA 90815
TRANSP: OPAQUE
SEQUENCE:0
UID:
DTSTAMP:20260420T172944Z
SUMMARY:Long Beach MCM, Tools, Books & So Much More Estate Sale
DESCRIPTION:Long Beach MCM, Tools, Books & So Much More Estate Sale Pointe Estate Specialists 
UID:1776727784
STREET-ADDRESS:See website
POSTAL-CODE:90815
LOCALITY:Long Beach
REGION:ABBREV=CA
COUNTRY:ABBREV=US;ABBREV=USA:United States
URL;TYPE=Event Listing:https://estatesales.org/estate-sales/ca/long-beach/90815/long-beach-mcm-tools-books-2166253
PRIORITY:1
CLASS:PUBLIC
SEQUENCE:0
STATUS:CONFIRMED
TRANSP:OPAQUE
END:VEVENT
END:VCALENDAR
