BEGIN:VCALENDAR
VERSION:2.0
METHOD:PUBLISH
BEGIN:VEVENT
DTSTART:20170415T183200Z
DTEND:20170419T013000Z
LOCATION:Fort Lauderdale, FL 33305
TRANSP: OPAQUE
SEQUENCE:0
UID:
DTSTAMP:20260423T090358Z
SUMMARY:BID NOW! Fabulous Online Estate Sale Auction!
DESCRIPTION:BID NOW! Fabulous Online Estate Sale Auction! Wilton Gallery 
UID:1776956638
STREET-ADDRESS:See website
POSTAL-CODE:33305
LOCALITY:Fort Lauderdale
REGION:ABBREV=FL
COUNTRY:ABBREV=US;ABBREV=USA:United States
URL;TYPE=Event Listing:https://estatesales.org/estate-sales/fl/fort-lauderdale/33305/bid-now-fabulous-online-estate-1151631
PRIORITY:1
CLASS:PUBLIC
SEQUENCE:0
STATUS:CONFIRMED
TRANSP:OPAQUE
END:VEVENT
END:VCALENDAR
