BEGIN:VCALENDAR
VERSION:2.0
METHOD:PUBLISH
BEGIN:VEVENT
DTSTART:20160415T130000Z
DTEND:20160416T200000Z
LOCATION:Waterford, MI 48328
TRANSP: OPAQUE
SEQUENCE:0
UID:
DTSTAMP:20260421T071318Z
SUMMARY:Estate Sale in Waterford, MI hosted by Caring Transitions of Oakland County 
DESCRIPTION:Estate Sale in Waterford, MI hosted by Caring Transitions of Oakland County  Caring Transitions of Oakland County MI 
UID:1776777198
STREET-ADDRESS:See website
POSTAL-CODE:48328
LOCALITY:Waterford
REGION:ABBREV=MI
COUNTRY:ABBREV=US;ABBREV=USA:United States
URL;TYPE=Event Listing:https://estatesales.org/estate-sales/mi/waterford/48328/estate-sale-in-waterford-mi-821745
PRIORITY:1
CLASS:PUBLIC
SEQUENCE:0
STATUS:CONFIRMED
TRANSP:OPAQUE
END:VEVENT
END:VCALENDAR
