BEGIN:VCALENDAR
VERSION:2.0
METHOD:PUBLISH
BEGIN:VEVENT
DTSTART:20160415T180000Z
DTEND:20160417T190000Z
LOCATION:Bridgehampton, NY 11932
TRANSP: OPAQUE
SEQUENCE:0
UID:
DTSTAMP:20260423T192853Z
SUMMARY:Sophisticated Traditional 
DESCRIPTION:Sophisticated Traditional  re.luxeHamptons 
UID:1776994133
STREET-ADDRESS:See website
POSTAL-CODE:11932
LOCALITY:Bridgehampton
REGION:ABBREV=NY
COUNTRY:ABBREV=US;ABBREV=USA:United States
URL;TYPE=Event Listing:https://estatesales.org/estate-sales/ny/bridgehampton/11932/sophisticated-traditional-820025
PRIORITY:1
CLASS:PUBLIC
SEQUENCE:0
STATUS:CONFIRMED
TRANSP:OPAQUE
END:VEVENT
END:VCALENDAR
