BEGIN:VCALENDAR
VERSION:2.0
METHOD:PUBLISH
BEGIN:VEVENT
DTSTART:20150415T200000Z
DTEND:20150418T200000Z
LOCATION:Park Ridge, IL 60068
TRANSP: OPAQUE
SEQUENCE:0
UID:
DTSTAMP:20260420T161956Z
SUMMARY:***SUBTLE TREASURES*** HITS THE JACKPOT AGAIN JUST FOR YOU IN PARK RIDGE!!
DESCRIPTION:***SUBTLE TREASURES*** HITS THE JACKPOT AGAIN JUST FOR YOU IN PARK RIDGE!! Subtle Treasures 
UID:1776723596
STREET-ADDRESS:See website
POSTAL-CODE:60068
LOCALITY:Park Ridge
REGION:ABBREV=IL
COUNTRY:ABBREV=US;ABBREV=USA:United States
URL;TYPE=Event Listing:https://estatesales.org/estate-sales/il/park-ridge/60068/subtle-treasures-hits-the-jackpot-523010
PRIORITY:1
CLASS:PUBLIC
SEQUENCE:0
STATUS:CONFIRMED
TRANSP:OPAQUE
END:VEVENT
END:VCALENDAR
