BEGIN:VCALENDAR
VERSION:2.0
METHOD:PUBLISH
BEGIN:VEVENT
DTSTART:20230414T160000Z
DTEND:20230415T220000Z
LOCATION:Petoskey, MI 49770
TRANSP: OPAQUE
SEQUENCE:0
UID:
DTSTAMP:20260423T233537Z
SUMMARY:PETOSKEY ESTATE SALE - BLACK RIVER ESTATE SALES 
DESCRIPTION:PETOSKEY ESTATE SALE - BLACK RIVER ESTATE SALES  Black River Estate Sales 
UID:1777008937
STREET-ADDRESS:See website
POSTAL-CODE:49770
LOCALITY:Petoskey
REGION:ABBREV=MI
COUNTRY:ABBREV=US;ABBREV=USA:United States
URL;TYPE=Event Listing:https://estatesales.org/estate-sales/mi/petoskey-/49770/petoskey-estate-sale-black-river-2165511
PRIORITY:1
CLASS:PUBLIC
SEQUENCE:0
STATUS:CONFIRMED
TRANSP:OPAQUE
END:VEVENT
END:VCALENDAR
