BEGIN:VCALENDAR
VERSION:2.0
METHOD:PUBLISH
BEGIN:VEVENT
DTSTART:20230414T150000Z
DTEND:20230416T210000Z
LOCATION:Vancouver, WA 98665
TRANSP: OPAQUE
SEQUENCE:0
UID:
DTSTAMP:20260422T200922Z
SUMMARY:Decorator's Delight
DESCRIPTION:Decorator's Delight Boyd's Auctions & Estate Services 
UID:1776910162
STREET-ADDRESS:See website
POSTAL-CODE:98665
LOCALITY:Vancouver
REGION:ABBREV=WA
COUNTRY:ABBREV=US;ABBREV=USA:United States
URL;TYPE=Event Listing:https://estatesales.org/estate-sales/wa/vancouver/98665/decorators-delight-2164815
PRIORITY:1
CLASS:PUBLIC
SEQUENCE:0
STATUS:CONFIRMED
TRANSP:OPAQUE
END:VEVENT
END:VCALENDAR
