BEGIN:VCALENDAR
VERSION:2.0
METHOD:PUBLISH
BEGIN:VEVENT
DTSTART:20230414T130000Z
DTEND:20230415T180000Z
LOCATION:Joplin, MO 64801
TRANSP: OPAQUE
SEQUENCE:0
UID:
DTSTAMP:20260419T122550Z
SUMMARY:$2.8 million dollar Joplin Estate Tag Sale of the Late Harry M Cornell, JR, TRUST 
DESCRIPTION:$2.8 million dollar Joplin Estate Tag Sale of the Late Harry M Cornell, JR, TRUST  New Beginnings Estate Sales of SW MO 
UID:1776623150
STREET-ADDRESS:See website
POSTAL-CODE:64801
LOCALITY:Joplin
REGION:ABBREV=MO
COUNTRY:ABBREV=US;ABBREV=USA:United States
URL;TYPE=Event Listing:https://estatesales.org/estate-sales/mo/joplin/64801/28-million-dollar-joplin-estate-2168933
PRIORITY:1
CLASS:PUBLIC
SEQUENCE:0
STATUS:CONFIRMED
TRANSP:OPAQUE
END:VEVENT
END:VCALENDAR
