BEGIN:VCALENDAR
VERSION:2.0
METHOD:PUBLISH
BEGIN:VEVENT
DTSTART:20230414T130000Z
DTEND:20230415T180000Z
LOCATION:North Dartmouth, MA 02747
TRANSP: OPAQUE
SEQUENCE:0
UID:
DTSTAMP:20260420T012618Z
SUMMARY:Dartmouth Moving sale
DESCRIPTION:Dartmouth Moving sale Hidden Treasures Estate Sales & Cleanouts 
UID:1776669978
STREET-ADDRESS:See website
POSTAL-CODE:02747
LOCALITY:North Dartmouth
REGION:ABBREV=MA
COUNTRY:ABBREV=US;ABBREV=USA:United States
URL;TYPE=Event Listing:https://estatesales.org/estate-sales/ma/dartmouth/02747/dartmouth-moving-sale-2166317
PRIORITY:1
CLASS:PUBLIC
SEQUENCE:0
STATUS:CONFIRMED
TRANSP:OPAQUE
END:VEVENT
END:VCALENDAR
