BEGIN:VCALENDAR
VERSION:2.0
METHOD:PUBLISH
BEGIN:VEVENT
DTSTART:20230414T140000Z
DTEND:20230415T220000Z
LOCATION:Colorado Springs, CO 80918
TRANSP: OPAQUE
SEQUENCE:0
UID:
DTSTAMP:20260420T204702Z
SUMMARY:Intriguing and unique estate Sale
DESCRIPTION:Intriguing and unique estate Sale Total Care Estate and Property Services 
UID:1776739622
STREET-ADDRESS:See website
POSTAL-CODE:80918
LOCALITY:Colorado Springs
REGION:ABBREV=CO
COUNTRY:ABBREV=US;ABBREV=USA:United States
URL;TYPE=Event Listing:https://estatesales.org/estate-sales/co/colorado-springs/80918/intriguing-and-unique-estate-sale-2167713
PRIORITY:1
CLASS:PUBLIC
SEQUENCE:0
STATUS:CONFIRMED
TRANSP:OPAQUE
END:VEVENT
END:VCALENDAR
