BEGIN:VCALENDAR
VERSION:2.0
METHOD:PUBLISH
BEGIN:VEVENT
DTSTART:20220414T150000Z
DTEND:20220419T000000Z
LOCATION:Parrish, FL 32719
TRANSP: OPAQUE
SEQUENCE:0
UID:
DTSTAMP:20260423T131057Z
SUMMARY:Off Site Car Sale
DESCRIPTION:Off Site Car Sale Estate Sales of Pinellas 
UID:1776971457
STREET-ADDRESS:See website
POSTAL-CODE:32719
LOCALITY:Parrish
REGION:ABBREV=FL
COUNTRY:ABBREV=US;ABBREV=USA:United States
URL;TYPE=Event Listing:https://estatesales.org/estate-sales/fl/parrish/32719/off-site-car-sale-2028225
PRIORITY:1
CLASS:PUBLIC
SEQUENCE:0
STATUS:CONFIRMED
TRANSP:OPAQUE
END:VEVENT
END:VCALENDAR
