BEGIN:VCALENDAR
VERSION:2.0
METHOD:PUBLISH
BEGIN:VEVENT
DTSTART:20180414T133000Z
DTEND:20180415T180000Z
LOCATION:Cliffside Park, NJ 07010
TRANSP: OPAQUE
SEQUENCE:0
UID:
DTSTAMP:20260425T162227Z
SUMMARY:EASY PICKING IS IN CLIFFSIDE PARK, NJ FOR A 2 DAY SALE. - LOUIS XV BEDROOM SET 
DESCRIPTION:EASY PICKING IS IN CLIFFSIDE PARK, NJ FOR A 2 DAY SALE. - LOUIS XV BEDROOM SET  Easy Picking Estate Sales 
UID:1777155747
STREET-ADDRESS:See website
POSTAL-CODE:07010
LOCALITY:Cliffside Park
REGION:ABBREV=NJ
COUNTRY:ABBREV=US;ABBREV=USA:United States
URL;TYPE=Event Listing:https://estatesales.org/estate-sales/nj/cliffside-park/07010/easy-picking-is-in-cliffside-1494701
PRIORITY:1
CLASS:PUBLIC
SEQUENCE:0
STATUS:CONFIRMED
TRANSP:OPAQUE
END:VEVENT
END:VCALENDAR
