BEGIN:VCALENDAR
VERSION:2.0
METHOD:PUBLISH
BEGIN:VEVENT
DTSTART:20180414T130000Z
DTEND:20180415T190000Z
LOCATION:Leesburg, VA 20176
TRANSP: OPAQUE
SEQUENCE:0
UID:
DTSTAMP:20260424T133602Z
SUMMARY:Lovely Leesburg Sale!
DESCRIPTION:Lovely Leesburg Sale! Great Estate Solutions 
UID:1777059362
STREET-ADDRESS:See website
POSTAL-CODE:20176
LOCALITY:Leesburg
REGION:ABBREV=VA
COUNTRY:ABBREV=US;ABBREV=USA:United States
URL;TYPE=Event Listing:https://estatesales.org/estate-sales/va/leesburg/20176/lovely-leesburg-sale-1501299
PRIORITY:1
CLASS:PUBLIC
SEQUENCE:0
STATUS:CONFIRMED
TRANSP:OPAQUE
END:VEVENT
END:VCALENDAR
