BEGIN:VCALENDAR
VERSION:2.0
METHOD:PUBLISH
BEGIN:VEVENT
DTSTART:20170414T130000Z
DTEND:20170415T200000Z
LOCATION:Fayetteville, AR 72701
TRANSP: OPAQUE
SEQUENCE:0
UID:
DTSTAMP:20260422T002941Z
SUMMARY:Bob's Studio of Photography 
DESCRIPTION:Bob's Studio of Photography  Sisters Estate Sales 
UID:1776839381
STREET-ADDRESS:See website
POSTAL-CODE:72701
LOCALITY:Fayetteville
REGION:ABBREV=AR
COUNTRY:ABBREV=US;ABBREV=USA:United States
URL;TYPE=Event Listing:https://estatesales.org/estate-sales/ar/fayetteville/72701/bobs-studio-of-photography-1145921
PRIORITY:1
CLASS:PUBLIC
SEQUENCE:0
STATUS:CONFIRMED
TRANSP:OPAQUE
END:VEVENT
END:VCALENDAR
