BEGIN:VCALENDAR
VERSION:2.0
METHOD:PUBLISH
BEGIN:VEVENT
DTSTART:20240413T140000Z
DTEND:20240413T160000Z
LOCATION:Saint Louis, MO 63134
TRANSP: OPAQUE
SEQUENCE:0
UID:
DTSTAMP:20260419T163109Z
SUMMARY:Piering, Wayerproofing, Foundation Equipment
DESCRIPTION:Piering, Wayerproofing, Foundation Equipment Kube Auction Service 
UID:1776637869
STREET-ADDRESS:See website
POSTAL-CODE:63134
LOCALITY:Saint Louis
REGION:ABBREV=MO
COUNTRY:ABBREV=US;ABBREV=USA:United States
URL;TYPE=Event Listing:https://estatesales.org/estate-sales/mo/saint-louis/63134/piering-wayerproofing-foundation-equipment-2294975
PRIORITY:1
CLASS:PUBLIC
SEQUENCE:0
STATUS:CONFIRMED
TRANSP:OPAQUE
END:VEVENT
END:VCALENDAR
