BEGIN:VCALENDAR
VERSION:2.0
METHOD:PUBLISH
BEGIN:VEVENT
DTSTART:20230413T180000Z
DTEND:20230416T220000Z
LOCATION:Owensboro, KY 42303
TRANSP: OPAQUE
SEQUENCE:0
UID:
DTSTAMP:20260419T170124Z
SUMMARY:Downsizing Sale
DESCRIPTION:Downsizing Sale Sweet Designs 
UID:1776639684
STREET-ADDRESS:See website
POSTAL-CODE:42303
LOCALITY:Owensboro
REGION:ABBREV=KY
COUNTRY:ABBREV=US;ABBREV=USA:United States
URL;TYPE=Event Listing:https://estatesales.org/estate-sales/ky/owensboro/42303/downsizing-sale-2167095
PRIORITY:1
CLASS:PUBLIC
SEQUENCE:0
STATUS:CONFIRMED
TRANSP:OPAQUE
END:VEVENT
END:VCALENDAR
