BEGIN:VCALENDAR
VERSION:2.0
METHOD:PUBLISH
BEGIN:VEVENT
DTSTART:20190413T133000Z
DTEND:20190414T180000Z
LOCATION:Brooklyn, NY 11228
TRANSP: OPAQUE
SEQUENCE:0
UID:
DTSTAMP:20260425T162227Z
SUMMARY:EASY PICKING IS IN BROOKLYN, NY FOR A 2 DAY SALE. HOME OF AN 98 YRS OLD WOMAN. LOTS OF STUFF.
DESCRIPTION:EASY PICKING IS IN BROOKLYN, NY FOR A 2 DAY SALE. HOME OF AN 98 YRS OLD WOMAN. LOTS OF STUFF. Easy Picking Estate Sales 
UID:1777155747
STREET-ADDRESS:See website
POSTAL-CODE:11228
LOCALITY:Brooklyn
REGION:ABBREV=NY
COUNTRY:ABBREV=US;ABBREV=USA:United States
URL;TYPE=Event Listing:https://estatesales.org/estate-sales/ny/brooklyn/11228/easy-picking-is-in-brooklyn-1640195
PRIORITY:1
CLASS:PUBLIC
SEQUENCE:0
STATUS:CONFIRMED
TRANSP:OPAQUE
END:VEVENT
END:VCALENDAR
