BEGIN:VCALENDAR
VERSION:2.0
METHOD:PUBLISH
BEGIN:VEVENT
DTSTART:20130413T140000Z
DTEND:20130413T210000Z
LOCATION:Clive, IA 50325
TRANSP: OPAQUE
SEQUENCE:0
UID:
DTSTAMP:20260425T194410Z
SUMMARY:Estate Sale
DESCRIPTION:Estate Sale Caring Transitions 
UID:1777167850
STREET-ADDRESS:See website
POSTAL-CODE:50325
LOCALITY:Clive
REGION:ABBREV=IA
COUNTRY:ABBREV=US;ABBREV=USA:United States
URL;TYPE=Event Listing:https://estatesales.org/estate-sales/ia/clive/50325/estate-sale-247093
PRIORITY:1
CLASS:PUBLIC
SEQUENCE:0
STATUS:CONFIRMED
TRANSP:OPAQUE
END:VEVENT
END:VCALENDAR
